BEGIN:VCALENDAR
VERSION:2.0
CALSCALE:GREGORIAN
METHOD:PUBLISH
PRODID://ALIV//450693
BEGIN:VEVENT
DTSTAMP:20260421T060745
VTIMEZONE:America/New_York
DTSTART:20250716T190000Z
DTEND:20250716T200000Z
UID:450693
SUMMARY:AmeriCorps Seniors COP
LOCATION:
DESCRIPTION:AmeriCorps Seniors COP\n\n07/16/25 03:00 PM EST\n - 07/16/25 04:00 PM EST\Description:\nThis COP is for those managing an AmeriCorps Seniors program(s) as a grantee or sponsor. This includes Foster Grandparent Program (FGP), RSVP (Retired and Senior Volunteer Program), and SCP (Senior Companion Program. Join us as we are a sounding board for sharing best practices and resources that are unique to federal grants and the older volunteers we work alongside.\n\nClick here to join the community and participate in our upcoming meeting.\n\nCommunities of Practice are an AL!VE member benefit; however, anyone is welcome to attend their first meeting with out being a member. Email info@volunteeralive.org for a free trial.  You can learn more about membership here.
X-ALT-DESC;FMTTYPE=text/html:AmeriCorps Seniors COP<br /><br />07/16/25 03:00 PM EST - 07/16/25 04:00 PM EST<br />Description:<br />This COP is for those managing an AmeriCorps Seniors program(s) as a grantee or sponsor. This includes Foster Grandparent Program (FGP), RSVP (Retired and Senior Volunteer Program), and SCP (Senior Companion Program. Join us as we are a sounding board for sharing best practices and resources that are unique to federal grants and the older volunteers we work alongside.<br />
<br />
<a href="https://mms.volunteeralive.org/members/projectinfo.php?org_id=ALIV&amp;pid=13034753"><strong>Click here to join the community and participate in our upcoming meeting.</strong></a><br />
<br />
<strong>Communities of Practice are an AL!VE member benefit; however, anyone is welcome to attend their first meeting with out being a member. Email info@volunteeralive.org for a free trial.&nbsp;&nbsp;<a href="https://www.volunteeralive.org/join_alve.php" target="_blank">You can learn more about membership here.</a></strong>
PRIORITY:3
TRANSP:TRANSPARENT
BEGIN:VALARM
TRIGGER:-PT5M
ACTION:DISPLAY
DESCRIPTION:Reminder
END:VALARM
END:VEVENT
END:VCALENDAR
