BEGIN:VCALENDAR
VERSION:2.0
CALSCALE:GREGORIAN
METHOD:PUBLISH
PRODID://ALIV//494718
BEGIN:VEVENT
DTSTAMP:20260419T214202
VTIMEZONE:America/New_York
DTSTART:20260505T190000Z
DTEND:20260505T200000Z
UID:494718
SUMMARY:Foodbank Community of Practice 
LOCATION:https://teams.microsoft.com/l/meetup-join/19%3ameeting_YzUyYWIyMmEtZDY4ZS00ZDZiLTk3NzMtOTViZDBhMzk0MTVk%40thread.v2/0?context=%7b%22Tid%22%3a%221ecbe707-33fb-4304-98d8-c1e222a2fd0a%22%2c%22Oid%22%3a%22efbe51f0-732a-4f5d-8ead-ea65c67108c7%22%7d
DESCRIPTION:Foodbank Community of Practice \n\n05/05/26 03:00 PM EST\n - 05/05/26 04:00 PM EST\Description:\n\n	\n		\n			Date\n			Tentative Topics – any topic can be brought up in any session – we’re in charge ðŸ˜‰\n		\n		\n			Feb 3\n			Difficult Situations\n		\n		\n			Mar 3\n			Planning for Appreciation\n		\n		\n			Apr 7\n			Staff Buy-In\n		\n		\n			May 5\n			The Tools We Use\n		\n		\n			Jun 2\n			Schools/Unis\n		\n		\n			Jul 7\n			Corporate Partnerships\n		\n		\n			Aug 4\n			Volunteers for HAM\n		\n		\n			Sep 1\n			Recognition\n		\n		\n			Oct 6\n			Preparing for the Holiday RUSH\n		\n		\n			Nov 3\n			Self-care/VM Day Celebrating US\n		\n		\n			Dec 1\n			Managing Expectations\n		\n		\n			Jan 5\n			NY Dreams\n		\n	\n\n\Details:\nWe meet the first Tuesday of every month from 3-4pm EST.\Location:\nhttps://teams.microsoft.com/l/meetup-join/19%3ameeting_YzUyYWIyMmEtZDY4ZS00ZDZiLTk3NzMtOTViZDBhMzk0MTVk%40thread.v2/0?context=%7b%22Tid%22%3a%221ecbe707-33fb-4304-98d8-c1e222a2fd0a%22%2c%22Oid%22%3a%22efbe51f0-732a-4f5d-8ead-ea65c67108c7%22%7d\n\n,
X-ALT-DESC;FMTTYPE=text/html:Foodbank Community of Practice <br /><br />05/05/26 03:00 PM EST - 05/05/26 04:00 PM EST<br />Description:<br /><table border="0">
	<tbody>
		<tr>
			<td style="width:77px;">Date</td>
			<td style="width:498px;">Tentative Topics &ndash; any topic can be brought up in any session &ndash; we&rsquo;re in charge ðŸ˜‰</td>
		</tr>
		<tr>
			<td style="width:77px;">Feb 3</td>
			<td style="width:498px;">Difficult Situations</td>
		</tr>
		<tr>
			<td style="width:77px;">Mar 3</td>
			<td style="width:498px;">Planning for Appreciation</td>
		</tr>
		<tr>
			<td style="width:77px;">Apr 7</td>
			<td style="width:498px;">Staff Buy-In</td>
		</tr>
		<tr>
			<td style="width:77px;">May 5</td>
			<td style="width:498px;">The Tools We Use</td>
		</tr>
		<tr>
			<td style="width:77px;">Jun 2</td>
			<td style="width:498px;">Schools/Unis</td>
		</tr>
		<tr>
			<td style="width:77px;">Jul 7</td>
			<td style="width:498px;">Corporate Partnerships</td>
		</tr>
		<tr>
			<td style="width:77px;">Aug 4</td>
			<td style="width:498px;">Volunteers for HAM</td>
		</tr>
		<tr>
			<td style="width:77px;">Sep 1</td>
			<td style="width:498px;">Recognition</td>
		</tr>
		<tr>
			<td style="width:77px;">Oct 6</td>
			<td style="width:498px;">Preparing for the Holiday RUSH</td>
		</tr>
		<tr>
			<td style="width:77px;">Nov 3</td>
			<td style="width:498px;">Self-care/VM Day Celebrating US</td>
		</tr>
		<tr>
			<td style="width:77px;">Dec 1</td>
			<td style="width:498px;">Managing Expectations</td>
		</tr>
		<tr>
			<td style="width:77px;">Jan 5</td>
			<td style="width:498px;">NY Dreams</td>
		</tr>
	</tbody>
</table>
<br />Details:<br />We meet the first Tuesday of every month from 3-4pm EST.<br />Location:<br />https://teams.microsoft.com/l/meetup-join/19%3ameeting_YzUyYWIyMmEtZDY4ZS00ZDZiLTk3NzMtOTViZDBhMzk0MTVk%40thread.v2/0?context=%7b%22Tid%22%3a%221ecbe707-33fb-4304-98d8-c1e222a2fd0a%22%2c%22Oid%22%3a%22efbe51f0-732a-4f5d-8ead-ea65c67108c7%22%7d<br /><br />,  
PRIORITY:3
TRANSP:TRANSPARENT
BEGIN:VALARM
TRIGGER:-PT5M
ACTION:DISPLAY
DESCRIPTION:Reminder
END:VALARM
END:VEVENT
END:VCALENDAR
