BEGIN:VCALENDAR
VERSION:2.0
CALSCALE:GREGORIAN
METHOD:PUBLISH
PRODID://ALIV//515226
BEGIN:VEVENT
DTSTAMP:20260421T042534
VTIMEZONE:America/New_York
DTSTART:20260430T160000Z
DTEND:20260430T170000Z
UID:515226
SUMMARY:AL!VE Volunteer Appreciation Celebration
LOCATION:Zoom Meeting
DESCRIPTION:AL!VE Volunteer Appreciation Celebration\n\n04/30/26 12:00 PM EST\n - 04/30/26 01:00 PM EST\Description:\nJoin us to celebrate the accomplishments of AL!VE volunteers since last year, connect and have a great time with other AL!VE volunteers!\Details:\nApril 30th\n12p - 1p\n \Location:\nZoom Meeting\n\n,
X-ALT-DESC;FMTTYPE=text/html:AL!VE Volunteer Appreciation Celebration<br /><br />04/30/26 12:00 PM EST - 04/30/26 01:00 PM EST<br />Description:<br />Join us to celebrate the accomplishments of AL!VE volunteers since last year, connect and have a great time with other AL!VE volunteers!<br />Details:<br />April 30th<br />
12p - 1p<br />
&nbsp;<br />Location:<br />Zoom Meeting<br /><br />,  
PRIORITY:3
TRANSP:TRANSPARENT
BEGIN:VALARM
TRIGGER:-PT5M
ACTION:DISPLAY
DESCRIPTION:Reminder
END:VALARM
END:VEVENT
END:VCALENDAR
